BEGIN:VCALENDAR
METHOD:PUBLISH
PRODID:-//github.com/ical-org/ical.net//NONSGML ical.net 4.0//EN
VERSION:2.0
BEGIN:VEVENT
DESCRIPTION:Styringsgruppa for Miljøløftet har møte fredag 24. april kl. 0
 9.00–10.30.
DTEND;TZID=W. Europe Standard Time:20260424T103000
DTSTAMP:20260423T111913Z
DTSTART;TZID=W. Europe Standard Time:20260424T090000
LOCATION:Vestlandshuset\, møterom Jostedalsbreen\, Lars Hilles gate 22\, B
 ergen
SEQUENCE:0
SUMMARY:Møte i styringsgruppa april 2026
UID:Miljøløftet-6547
BEGIN:VALARM
ACTION:DISPLAY
DESCRIPTION:Reminder
DURATION:-PT15M
TRIGGER:-PT15M
END:VALARM
END:VEVENT
END:VCALENDAR
